BEGIN:VCALENDAR
VERSION:2.0
PRODID:-//National Aphasia Association - ECPv6.13.2.1//NONSGML v1.0//EN
CALSCALE:GREGORIAN
METHOD:PUBLISH
X-WR-CALNAME:National Aphasia Association
X-ORIGINAL-URL:https://staging.aphasia.org
X-WR-CALDESC:Events for National Aphasia Association
REFRESH-INTERVAL;VALUE=DURATION:PT1H
X-Robots-Tag:noindex
X-PUBLISHED-TTL:PT1H
BEGIN:VTIMEZONE
TZID:America/New_York
BEGIN:DAYLIGHT
TZOFFSETFROM:-0500
TZOFFSETTO:-0400
TZNAME:EDT
DTSTART:20250309T070000
END:DAYLIGHT
BEGIN:STANDARD
TZOFFSETFROM:-0400
TZOFFSETTO:-0500
TZNAME:EST
DTSTART:20251102T060000
END:STANDARD
END:VTIMEZONE
BEGIN:VEVENT
DTSTART;TZID=America/New_York:20250514T200000
DTEND;TZID=America/New_York:20250514T210000
DTSTAMP:20260421T043030
CREATED:20240822T103400Z
LAST-MODIFIED:20250624T181944Z
UID:10001020-1747252800-1747256400@staging.aphasia.org
SUMMARY:Parenting With Aphasia
DESCRIPTION:Program: Parenting with Aphasia \nTopic: We talk about what it’s like raising children while having aphasia. \nAdvisor: Lauren Schwabish \nWhen: The second Wednesday of each month from 8-9pm EST \n \nMore Information: Parenting is no easy feat but can be particularly challenging when one parent has aphasia. Parenting with Aphasia meets virtually once a month\, inviting parents with kids of all ages to join together in a safe\, non-judgmental space to share experiences\, receive positive peer support\, and learn more about how other parents are navigating the highs and lows of modern-day parenting when aphasia is along for the ride. This group is advised by Lauren Schwabish (Owner of Neuro Speech Services).
URL:https://staging.aphasia.org/event/parenting-with-aphasia-2-2/2025-05-14/
CATEGORIES:Virtual Groups
ATTACH;FMTTYPE=image/png:https://staging.aphasia.org/wp-content/uploads/2023/11/Parenting-with-Aphasia.png
LOCATION:
END:VEVENT
BEGIN:VEVENT
DTSTART;TZID=America/New_York:20250514T120000
DTEND;TZID=America/New_York:20250514T130000
DTSTAMP:20260421T043030
CREATED:20250430T134438Z
LAST-MODIFIED:20250612T143054Z
UID:10001274-1747224000-1747227600@staging.aphasia.org
SUMMARY:After the Expert
DESCRIPTION:Program: After the Expert \nTopic: A conversation about last week’s “Ask the Expert” webinar! An opportunity to share thoughts and ask questions. \nAdvisors: Maura Silverman and Katherine Noyes \nWhen: The Wednesday following the “Ask the Expert” each month from 12-1pm Eastern Time \n  \nClick This Zoom Link To Join \n  \nMore Information: Did you join our “Ask the Expert” webinar live last Thursday? Or\, have you had a chance to watch the recording on the NAA’s YouTube channel? In this virtual conversation group\, we will have an opportunity to talk about the topic shared in this month’s “Ask the Expert” webinar. Bring your comments and questions as we chat about the information presented by our Expert(s).
URL:https://staging.aphasia.org/event/after-the-expert-3/
END:VEVENT
BEGIN:VEVENT
DTSTART;TZID=America/New_York:20250513T160000
DTEND;TZID=America/New_York:20250513T170000
DTSTAMP:20260421T043030
CREATED:20240911T104414Z
LAST-MODIFIED:20250619T195531Z
UID:10001145-1747152000-1747155600@staging.aphasia.org
SUMMARY:Technology and Supports for Aphasia
DESCRIPTION:Program: Technology and Supports for Aphasia Group \nTopic: Learn about current technology available to support people with aphasia. \nAdvisors: Brooke Lang and Bryn Bowles \nWhen: The second Tuesday of the month\, 4:00-5:00pm EST \nClick This Zoom Link To Join \n  \nMore Information: In this virtual conversation group\, we will share and discuss using technology to support persons with Aphasia and expand upon your home program. We will go beyond just the apps that are “made for people with Aphasia” and show you how you can use the many options that are out there\, personalize them\, and tailor them to your needs so you can become more independent in your environment. This group is advised by Brooke Lang and Bryn Bowles (Integrative Reconnective Aphasia Therapy).
URL:https://staging.aphasia.org/event/technology-and-supports-for-aphasia-2-2-2/
CATEGORIES:Virtual Groups
ATTACH;FMTTYPE=image/png:https://staging.aphasia.org/wp-content/uploads/2023/11/Technology-and-Supports-for-Aphasia.png
END:VEVENT
BEGIN:VEVENT
DTSTART;TZID=America/New_York:20250512T193000
DTEND;TZID=America/New_York:20250512T203000
DTSTAMP:20260421T043030
CREATED:20250207T082916Z
LAST-MODIFIED:20250624T182526Z
UID:10001407-1747078200-1747081800@staging.aphasia.org
SUMMARY:PPA Care Partner Support Group
DESCRIPTION:Program:  Support Community For Communication and Care Partners of people with PPA and PPAOS \nAdvisor: Kiiya Shibata and Zoe Ezzes \nWhen: Every 2nd and 4th Monday at 7:30pm ET \nMore Information: Join us for an evening support group for communication and care partners of people with primary progressive aphasia and primary progressive apraxia of speech (PPA/PPAOS). This is a space for care partners\, family\, and friends of people with PPA/PPAOS to find community with one another. Hosted virtually via Zoom by the National Aphasia Association. \n \nMeeting ID: 811 1409 2412\nPasscode: 564527
URL:https://staging.aphasia.org/event/ppa-caregiver-support-group/2025-05-12/
CATEGORIES:Virtual Groups
LOCATION:
END:VEVENT
BEGIN:VEVENT
DTSTART;TZID=America/New_York:20250512T160000
DTEND;TZID=America/New_York:20250512T170000
DTSTAMP:20260421T043030
CREATED:20250120T081134Z
LAST-MODIFIED:20250624T181539Z
UID:10001275-1747065600-1747069200@staging.aphasia.org
SUMMARY:Black American Aphasia Conversation Group
DESCRIPTION:Program: Black American Aphasia Conversation Group  \nDescription: An inclusive place for black people with aphasia to connect. \nAdvisors: Michael Obel-Omia\, Angie Cauthorn\, and Nikki Benson-Watlington \nWhen: Every other Monday from 4-5pm EST \n \nMore Information: This inclusive\, aphasia-friendly group discusses a wide range of topics\, including sharing tips and some of the challenges faced living while Black and struck by an invisible\, severely underknown disability called aphasia.  We welcome all who acknowledge the existence of the unique challenges each quality poses and support the mission of creating an emotional refuge for Black people living with aphasia. The Black American Aphasia Conversation Group meets every other Monday. It is advised by Angie Cauthorn (NAA Board Member and co-founder of ARCH)\, Michael Obel-Omia\, and Nikki Benson-Watlington (Outreach Coordinator\, The Aphasia Center at Jefferson Moss-Magee)
URL:https://staging.aphasia.org/event/black-american-aphasia-conversation-group-3-2-2-2/2025-05-12/
CATEGORIES:Virtual Groups
ATTACH;FMTTYPE=image/png:https://staging.aphasia.org/wp-content/uploads/2023/10/Black-American-Aphasia-Conversation-Group.png
LOCATION:
END:VEVENT
END:VCALENDAR