BEGIN:VCALENDAR
VERSION:2.0
PRODID:-//National Aphasia Association - ECPv6.13.2.1//NONSGML v1.0//EN
CALSCALE:GREGORIAN
METHOD:PUBLISH
X-WR-CALNAME:National Aphasia Association
X-ORIGINAL-URL:https://staging.aphasia.org
X-WR-CALDESC:Events for National Aphasia Association
REFRESH-INTERVAL;VALUE=DURATION:PT1H
X-Robots-Tag:noindex
X-PUBLISHED-TTL:PT1H
BEGIN:VTIMEZONE
TZID:America/New_York
BEGIN:DAYLIGHT
TZOFFSETFROM:-0500
TZOFFSETTO:-0400
TZNAME:EDT
DTSTART:20250309T070000
END:DAYLIGHT
BEGIN:STANDARD
TZOFFSETFROM:-0400
TZOFFSETTO:-0500
TZNAME:EST
DTSTART:20251102T060000
END:STANDARD
END:VTIMEZONE
BEGIN:VEVENT
DTSTART;TZID=America/New_York:20250618T190000
DTEND;TZID=America/New_York:20250618T200000
DTSTAMP:20260420T200903
CREATED:20250516T102643Z
LAST-MODIFIED:20250624T182628Z
UID:10001488-1750273200-1750276800@staging.aphasia.org
SUMMARY:Aphasia Care Partner Group
DESCRIPTION:Program: Aphasia Care Partner Group \nTopic: A conversation group for care partners of people with aphasia due to stroke or brain injury. \nAdvisor: Abbe Simon \nWhen: The third Wednesday of the month\, 7-8 PM Eastern Time \n \nMore Information: This monthly group welcomes care partners of people who have aphasia due to stroke or brain injury. Group advisor\, Abbe Simon\, reminds clients that aphasia does not just impact the person who has it.  The group will be a space for care partners to share\, inquire\, support\, and learn.  Friends\, family members\, colleagues\, all are welcome. Hosted virtually via Zoom by the National Aphasia Association.
URL:https://staging.aphasia.org/event/aphasia-care-partner-group-2/2025-06-18/
CATEGORIES:Virtual Groups
LOCATION:
END:VEVENT
END:VCALENDAR